BEGIN:VCALENDAR
VERSION:2.0
PRODID:-//Birmingham Civic Society - ECPv6.15.20//NONSGML v1.0//EN
CALSCALE:GREGORIAN
METHOD:PUBLISH
X-ORIGINAL-URL:https://birminghamcivicsociety.org.uk
X-WR-CALDESC:Events for Birmingham Civic Society
REFRESH-INTERVAL;VALUE=DURATION:PT1H
X-Robots-Tag:noindex
X-PUBLISHED-TTL:PT1H
BEGIN:VTIMEZONE
TZID:UTC
BEGIN:STANDARD
TZOFFSETFROM:+0000
TZOFFSETTO:+0000
TZNAME:UTC
DTSTART:20200101T000000
END:STANDARD
END:VTIMEZONE
BEGIN:VEVENT
DTSTART;TZID=UTC:20210309T123000
DTEND;TZID=UTC:20210309T133000
DTSTAMP:20260422T124955
CREATED:20210215T173756Z
LAST-MODIFIED:20210215T173756Z
UID:505856-1615293000-1615296600@birminghamcivicsociety.org.uk
SUMMARY:The Park Street Excavations
DESCRIPTION:Did you know that one of the biggest archaeological digs in the UK recently took place in Birmingham? \nThe archaeological excavation at Park Street undertaken by MOLA (Museum of London Archaeology) Headland for the HS2 rail line was the largest investigation of a Victorian graveyard undertaken outside of London. It presented archaeologists with an unprecedented opportunity to study the population of Birmingham during a period of rapid expansion and change for the city. \nJoin representatives from MOLA Headland for a short talk about the history of the site as well as discussing some of the recent findings. \nThis is an online talk using the platform Zoom. Participants will require a lap top\, PC\, tablet or smartphone for this experience and will be provided\, in advance\, with all the information needed to access the event. \nThis is a free event for Birmingham Civic Society Members only – book your place via the Eventbrite link below.
URL:https://birminghamcivicsociety.org.uk/event/the-park-street-excavations/
CATEGORIES:Birmingham Civic Society Event
ATTACH;FMTTYPE=image/jpeg:https://birminghamcivicsociety.org.uk/wp-content/uploads/2021/02/Park-Street-Ex.jpg
END:VEVENT
END:VCALENDAR